BEGIN:VCALENDAR
VERSION:2.0
PRODID:-//Mercado Medieval Óbidos - ECPv6.15.13.1//NONSGML v1.0//EN
CALSCALE:GREGORIAN
METHOD:PUBLISH
X-ORIGINAL-URL:https://mercadomedievalobidos.pt
X-WR-CALDESC:Eventos para Mercado Medieval Óbidos
REFRESH-INTERVAL;VALUE=DURATION:PT1H
X-Robots-Tag:noindex
X-PUBLISHED-TTL:PT1H
BEGIN:VTIMEZONE
TZID:UTC
BEGIN:STANDARD
TZOFFSETFROM:+0000
TZOFFSETTO:+0000
TZNAME:UTC
DTSTART:20240101T000000
END:STANDARD
END:VTIMEZONE
BEGIN:VEVENT
DTSTART;TZID=UTC:20250722T204500
DTEND;TZID=UTC:20250722T204500
DTSTAMP:20260425T104309
CREATED:20250630T091914Z
LAST-MODIFIED:20250630T092251Z
UID:7480-1753217100-1753217100@mercadomedievalobidos.pt
SUMMARY:Tratado de Elvatis + Ecos da Encantada
DESCRIPTION:Palco da Abadia
URL:https://mercadomedievalobidos.pt/event/tratado-de-elvatis-ecos-da-encantada/
END:VEVENT
BEGIN:VEVENT
DTSTART;TZID=UTC:20250722T201500
DTEND;TZID=UTC:20250722T201500
DTSTAMP:20260425T104309
CREATED:20250630T091914Z
LAST-MODIFIED:20250630T112120Z
UID:7478-1753215300-1753215300@mercadomedievalobidos.pt
SUMMARY:“Desafios\, ou... outro nome qualquer!!” - Trupe Os Almeidas
DESCRIPTION:Palco da Abadia
URL:https://mercadomedievalobidos.pt/event/desafios-ou-outro-nome-qualquer-trupe-os-almeidas-6/
ATTACH;FMTTYPE=image/jpeg:https://mercadomedievalobidos.pt/2022/wp-content/uploads/2025/06/almeidas_desafios.jpg
END:VEVENT
BEGIN:VEVENT
DTSTART;TZID=UTC:20250722T200000
DTEND;TZID=UTC:20250722T200000
DTSTAMP:20260425T104309
CREATED:20250630T091914Z
LAST-MODIFIED:20250630T114134Z
UID:7492-1753214400-1753214400@mercadomedievalobidos.pt
SUMMARY:“Saltimbancos da Corte” - Malatitsch
DESCRIPTION:Palco da Fonte
URL:https://mercadomedievalobidos.pt/event/saltimbancos-da-corte-malatitsch-5/
ATTACH;FMTTYPE=image/jpeg:https://mercadomedievalobidos.pt/2022/wp-content/uploads/2025/06/malatitsch_saltimbancos.jpg
END:VEVENT
BEGIN:VEVENT
DTSTART;TZID=UTC:20250722T193000
DTEND;TZID=UTC:20250722T193000
DTSTAMP:20260425T104309
CREATED:20250630T091914Z
LAST-MODIFIED:20250630T113429Z
UID:7476-1753212600-1753212600@mercadomedievalobidos.pt
SUMMARY:“Julgamento” - Teatro DePressa
DESCRIPTION:Palco da Abadia
URL:https://mercadomedievalobidos.pt/event/julgamento-teatro-depressa-8/
ATTACH;FMTTYPE=image/jpeg:https://mercadomedievalobidos.pt/2022/wp-content/uploads/2025/06/teatrodepressa.jpg
END:VEVENT
BEGIN:VEVENT
DTSTART;TZID=UTC:20250722T190000
DTEND;TZID=UTC:20250722T190000
DTSTAMP:20260425T104309
CREATED:20250630T091914Z
LAST-MODIFIED:20250630T140240Z
UID:7474-1753210800-1753210800@mercadomedievalobidos.pt
SUMMARY:“Buffons de lá Bufa” - Ícarus et Lumen
DESCRIPTION:Palco da Abadia
URL:https://mercadomedievalobidos.pt/event/buffons-de-la-bufa-icarus-et-lumen-8/
ATTACH;FMTTYPE=image/jpeg:https://mercadomedievalobidos.pt/2022/wp-content/uploads/2025/06/buffons_icarus.jpg
END:VEVENT
BEGIN:VEVENT
DTSTART;TZID=UTC:20250722T190000
DTEND;TZID=UTC:20250722T190000
DTSTAMP:20260425T104309
CREATED:20250630T091914Z
LAST-MODIFIED:20250630T092306Z
UID:7490-1753210800-1753210800@mercadomedievalobidos.pt
SUMMARY:Alvorada + D’Way
DESCRIPTION:Palco da Fonte
URL:https://mercadomedievalobidos.pt/event/alvorada-dway-2/
END:VEVENT
BEGIN:VEVENT
DTSTART;TZID=UTC:20250722T003000
DTEND;TZID=UTC:20250722T003000
DTSTAMP:20260425T104309
CREATED:20250630T091914Z
LAST-MODIFIED:20250630T092311Z
UID:7462-1753144200-1753144200@mercadomedievalobidos.pt
SUMMARY:Alvorada + D’Way
DESCRIPTION:Palco da Abadia
URL:https://mercadomedievalobidos.pt/event/alvorada-dway/
END:VEVENT
BEGIN:VEVENT
DTSTART;TZID=UTC:20250721T234500
DTEND;TZID=UTC:20250721T234500
DTSTAMP:20260425T104309
CREATED:20250630T091914Z
LAST-MODIFIED:20250630T170406Z
UID:7459-1753141500-1753141500@mercadomedievalobidos.pt
SUMMARY:"O Juízo Final” - Teatro DePressa + Ícarus et Lumen
DESCRIPTION:Palco da Abadia
URL:https://mercadomedievalobidos.pt/event/o-juizo-final-teatro-depressa-icarus-et-lumen/
END:VEVENT
BEGIN:VEVENT
DTSTART;TZID=UTC:20250721T234500
DTEND;TZID=UTC:20250721T234500
DTSTAMP:20260425T104309
CREATED:20250630T091914Z
LAST-MODIFIED:20250630T114436Z
UID:7472-1753141500-1753141500@mercadomedievalobidos.pt
SUMMARY:Grito do Vento
DESCRIPTION:Palco da Fonte
URL:https://mercadomedievalobidos.pt/event/grito-do-vento-7/
ATTACH;FMTTYPE=image/jpeg:https://mercadomedievalobidos.pt/2022/wp-content/uploads/2025/06/gritovento.jpg
END:VEVENT
BEGIN:VEVENT
DTSTART;TZID=UTC:20250721T224500
DTEND;TZID=UTC:20250721T224500
DTSTAMP:20260425T104309
CREATED:20250630T091914Z
LAST-MODIFIED:20250630T092324Z
UID:7470-1753137900-1753137900@mercadomedievalobidos.pt
SUMMARY:Tratado Elvatis + Scalarium
DESCRIPTION:Palco da Fonte
URL:https://mercadomedievalobidos.pt/event/tratado-elvatis-scalarium/
END:VEVENT
BEGIN:VEVENT
DTSTART;TZID=UTC:20250721T224500
DTEND;TZID=UTC:20250721T224500
DTSTAMP:20260425T104309
CREATED:20250630T091914Z
LAST-MODIFIED:20250630T163935Z
UID:7457-1753137900-1753137900@mercadomedievalobidos.pt
SUMMARY:Malatitsch
DESCRIPTION:Palco da Abadia 
URL:https://mercadomedievalobidos.pt/event/malatitsch-5/
ATTACH;FMTTYPE=image/jpeg:https://mercadomedievalobidos.pt/2022/wp-content/uploads/2025/06/malatitsch_saltimbancos.jpg
END:VEVENT
BEGIN:VEVENT
DTSTART;TZID=UTC:20250721T213000
DTEND;TZID=UTC:20250721T213000
DTSTAMP:20260425T104309
CREATED:20250630T091914Z
LAST-MODIFIED:20250630T140011Z
UID:7455-1753133400-1753133400@mercadomedievalobidos.pt
SUMMARY:Saltimbanco da Charneca
DESCRIPTION:Palco da Abadia
URL:https://mercadomedievalobidos.pt/event/saltimbanco-da-charneca/
ATTACH;FMTTYPE=image/jpeg:https://mercadomedievalobidos.pt/2022/wp-content/uploads/2025/06/saltimbancodacharneca.jpg
END:VEVENT
BEGIN:VEVENT
DTSTART;TZID=UTC:20250721T210000
DTEND;TZID=UTC:20250721T210000
DTSTAMP:20260425T104309
CREATED:20250630T091901Z
LAST-MODIFIED:20250630T111728Z
UID:7468-1753131600-1753131600@mercadomedievalobidos.pt
SUMMARY:“Histórias a Granel” - Anymamundy
DESCRIPTION:Palco da Fonte
URL:https://mercadomedievalobidos.pt/event/historias-a-granel-anymamundy-4/
ATTACH;FMTTYPE=image/jpeg:https://mercadomedievalobidos.pt/2022/wp-content/uploads/2025/06/anymamundy_histgranel.jpg
END:VEVENT
BEGIN:VEVENT
DTSTART;TZID=UTC:20250721T204500
DTEND;TZID=UTC:20250721T204500
DTSTAMP:20260425T104309
CREATED:20250630T091901Z
LAST-MODIFIED:20250630T092416Z
UID:7488-1753130700-1753130700@mercadomedievalobidos.pt
SUMMARY:Cornalusa + Scalarium
DESCRIPTION:Palco da Abadia
URL:https://mercadomedievalobidos.pt/event/cornalusa-scalarium-3/
END:VEVENT
BEGIN:VEVENT
DTSTART;TZID=UTC:20250721T201500
DTEND;TZID=UTC:20250721T201500
DTSTAMP:20260425T104309
CREATED:20250630T091901Z
LAST-MODIFIED:20250630T112130Z
UID:7451-1753128900-1753128900@mercadomedievalobidos.pt
SUMMARY:“Desafios\, ou... outro nome qualquer!!” - Trupe Os Almeidas
DESCRIPTION:Palco da Abadia
URL:https://mercadomedievalobidos.pt/event/desafios-ou-outro-nome-qualquer-trupe-os-almeidas-5/
ATTACH;FMTTYPE=image/jpeg:https://mercadomedievalobidos.pt/2022/wp-content/uploads/2025/06/almeidas_desafios.jpg
END:VEVENT
BEGIN:VEVENT
DTSTART;TZID=UTC:20250721T200000
DTEND;TZID=UTC:20250721T200000
DTSTAMP:20260425T104309
CREATED:20250630T091901Z
LAST-MODIFIED:20250630T114145Z
UID:7466-1753128000-1753128000@mercadomedievalobidos.pt
SUMMARY:“Saltimbancos da Corte” - Malatitsch
DESCRIPTION:Palco da Fonte
URL:https://mercadomedievalobidos.pt/event/saltimbancos-da-corte-malatitsch-4/
ATTACH;FMTTYPE=image/jpeg:https://mercadomedievalobidos.pt/2022/wp-content/uploads/2025/06/malatitsch_saltimbancos.jpg
END:VEVENT
BEGIN:VEVENT
DTSTART;TZID=UTC:20250721T193000
DTEND;TZID=UTC:20250721T193000
DTSTAMP:20260425T104309
CREATED:20250630T091901Z
LAST-MODIFIED:20250630T113445Z
UID:7449-1753126200-1753126200@mercadomedievalobidos.pt
SUMMARY:“Julgamento” - Teatro DePressa
DESCRIPTION:Palco da Abadia
URL:https://mercadomedievalobidos.pt/event/julgamento-teatro-depressa-7/
ATTACH;FMTTYPE=image/jpeg:https://mercadomedievalobidos.pt/2022/wp-content/uploads/2025/06/teatrodepressa.jpg
END:VEVENT
BEGIN:VEVENT
DTSTART;TZID=UTC:20250721T190000
DTEND;TZID=UTC:20250721T190000
DTSTAMP:20260425T104309
CREATED:20250630T091901Z
LAST-MODIFIED:20250630T112647Z
UID:7464-1753124400-1753124400@mercadomedievalobidos.pt
SUMMARY:Ecos da Encantada
DESCRIPTION:Palco da Fonte
URL:https://mercadomedievalobidos.pt/event/ecos-da-encantada/
ATTACH;FMTTYPE=image/jpeg:https://mercadomedievalobidos.pt/2022/wp-content/uploads/2025/06/ecosdaencantada.jpg
END:VEVENT
BEGIN:VEVENT
DTSTART;TZID=UTC:20250721T190000
DTEND;TZID=UTC:20250721T190000
DTSTAMP:20260425T104309
CREATED:20250630T091901Z
LAST-MODIFIED:20250630T140235Z
UID:7446-1753124400-1753124400@mercadomedievalobidos.pt
SUMMARY:“Buffons de lá Bufa” - Ícarus et Lumen
DESCRIPTION:Palco da Abadia
URL:https://mercadomedievalobidos.pt/event/buffons-de-la-bufa-icarus-et-lumen-7/
ATTACH;FMTTYPE=image/jpeg:https://mercadomedievalobidos.pt/2022/wp-content/uploads/2025/06/buffons_icarus.jpg
END:VEVENT
BEGIN:VEVENT
DTSTART;TZID=UTC:20250720T234500
DTEND;TZID=UTC:20250720T234500
DTSTAMP:20260425T104309
CREATED:20250630T091901Z
LAST-MODIFIED:20250630T170416Z
UID:7420-1753055100-1753055100@mercadomedievalobidos.pt
SUMMARY:“O Juízo Final” - Teatro DePressa + Ícarus et Lumen
DESCRIPTION:Palco da Abadia
URL:https://mercadomedievalobidos.pt/event/o-juizo-final-teatro-depressa-icarus-et-lumen-4/
END:VEVENT
BEGIN:VEVENT
DTSTART;TZID=UTC:20250720T234500
DTEND;TZID=UTC:20250720T234500
DTSTAMP:20260425T104309
CREATED:20250630T091901Z
LAST-MODIFIED:20250630T114431Z
UID:7443-1753055100-1753055100@mercadomedievalobidos.pt
SUMMARY:Grito do Vento
DESCRIPTION:Palco da Fonte
URL:https://mercadomedievalobidos.pt/event/grito-do-vento-6/
ATTACH;FMTTYPE=image/jpeg:https://mercadomedievalobidos.pt/2022/wp-content/uploads/2025/06/gritovento.jpg
END:VEVENT
BEGIN:VEVENT
DTSTART;TZID=UTC:20250720T224500
DTEND;TZID=UTC:20250720T224500
DTSTAMP:20260425T104309
CREATED:20250630T091901Z
LAST-MODIFIED:20250630T113102Z
UID:7439-1753051500-1753051500@mercadomedievalobidos.pt
SUMMARY:Scalarium
DESCRIPTION:Palco da Fonte
URL:https://mercadomedievalobidos.pt/event/scalarium-4/
ATTACH;FMTTYPE=image/jpeg:https://mercadomedievalobidos.pt/2022/wp-content/uploads/2025/06/scalarium-1.jpg
END:VEVENT
BEGIN:VEVENT
DTSTART;TZID=UTC:20250720T224500
DTEND;TZID=UTC:20250720T224500
DTSTAMP:20260425T104309
CREATED:20250630T091901Z
LAST-MODIFIED:20250630T163927Z
UID:7418-1753051500-1753051500@mercadomedievalobidos.pt
SUMMARY:Malatitsch
DESCRIPTION:Palco da Abadia
URL:https://mercadomedievalobidos.pt/event/malatitsch-4/
ATTACH;FMTTYPE=image/jpeg:https://mercadomedievalobidos.pt/2022/wp-content/uploads/2025/06/malatitsch_saltimbancos.jpg
END:VEVENT
BEGIN:VEVENT
DTSTART;TZID=UTC:20250720T220000
DTEND;TZID=UTC:20250720T220000
DTSTAMP:20260425T104309
CREATED:20250630T091901Z
LAST-MODIFIED:20250630T163847Z
UID:7415-1753048800-1753048800@mercadomedievalobidos.pt
SUMMARY:Grito do Vento
DESCRIPTION:Palco da Abadia
URL:https://mercadomedievalobidos.pt/event/grito-do-vento-5/
ATTACH;FMTTYPE=image/jpeg:https://mercadomedievalobidos.pt/2022/wp-content/uploads/2025/06/gritovento.jpg
END:VEVENT
BEGIN:VEVENT
DTSTART;TZID=UTC:20250720T220000
DTEND;TZID=UTC:20250720T220000
DTSTAMP:20260425T104309
CREATED:20250630T091901Z
LAST-MODIFIED:20250630T111931Z
UID:7436-1753048800-1753048800@mercadomedievalobidos.pt
SUMMARY:“A Princesa é Minha” - Trupe Os Almeidas
DESCRIPTION:Palco da Fonte
URL:https://mercadomedievalobidos.pt/event/a-princesa-e-minha-trupe-os-almeidas-3/
ATTACH;FMTTYPE=image/jpeg:https://mercadomedievalobidos.pt/2022/wp-content/uploads/2025/06/almeidas_princesa.jpg
END:VEVENT
BEGIN:VEVENT
DTSTART;TZID=UTC:20250720T213000
DTEND;TZID=UTC:20250720T213000
DTSTAMP:20260425T104309
CREATED:20250630T091901Z
LAST-MODIFIED:20250630T135754Z
UID:7413-1753047000-1753047000@mercadomedievalobidos.pt
SUMMARY:O Conto Torto
DESCRIPTION:Palco da Abadia
URL:https://mercadomedievalobidos.pt/event/o-conto-torto-4/
ATTACH;FMTTYPE=image/jpeg:https://mercadomedievalobidos.pt/2022/wp-content/uploads/2025/06/contotorto.jpg
END:VEVENT
BEGIN:VEVENT
DTSTART;TZID=UTC:20250720T210000
DTEND;TZID=UTC:20250720T210000
DTSTAMP:20260425T104309
CREATED:20250630T091901Z
LAST-MODIFIED:20250630T113241Z
UID:7434-1753045200-1753045200@mercadomedievalobidos.pt
SUMMARY:Porbatuka
DESCRIPTION:Palco da Fonte
URL:https://mercadomedievalobidos.pt/event/porbatuka-4/
ATTACH;FMTTYPE=image/jpeg:https://mercadomedievalobidos.pt/2022/wp-content/uploads/2025/06/porbatuka-1.jpg
END:VEVENT
BEGIN:VEVENT
DTSTART;TZID=UTC:20250720T204500
DTEND;TZID=UTC:20250720T204500
DTSTAMP:20260425T104309
CREATED:20250630T091901Z
LAST-MODIFIED:20250630T112617Z
UID:7411-1753044300-1753044300@mercadomedievalobidos.pt
SUMMARY:Saltimbancos de Santa Maria
DESCRIPTION:Palco da Abadia
URL:https://mercadomedievalobidos.pt/event/saltimbancos-de-santa-maria-3/
ATTACH;FMTTYPE=image/jpeg:https://mercadomedievalobidos.pt/2022/wp-content/uploads/2025/06/saltimbancossantamaria.jpg
END:VEVENT
BEGIN:VEVENT
DTSTART;TZID=UTC:20250720T201500
DTEND;TZID=UTC:20250720T201500
DTSTAMP:20260425T104309
CREATED:20250630T091902Z
LAST-MODIFIED:20250630T112126Z
UID:7409-1753042500-1753042500@mercadomedievalobidos.pt
SUMMARY:“Desafios\, ou... outro nome qualquer!!” - Trupe Os Almeidas
DESCRIPTION:Palco da Abadia
URL:https://mercadomedievalobidos.pt/event/desafios-ou-outro-nome-qualquer-trupe-os-almeidas-4/
ATTACH;FMTTYPE=image/jpeg:https://mercadomedievalobidos.pt/2022/wp-content/uploads/2025/06/almeidas_desafios.jpg
END:VEVENT
BEGIN:VEVENT
DTSTART;TZID=UTC:20250720T200000
DTEND;TZID=UTC:20250720T200000
DTSTAMP:20260425T104309
CREATED:20250630T091902Z
LAST-MODIFIED:20250630T114139Z
UID:7430-1753041600-1753041600@mercadomedievalobidos.pt
SUMMARY:“Saltimbancos da Corte” - Malatitsch
DESCRIPTION:Palco da Fonte
URL:https://mercadomedievalobidos.pt/event/7430/
ATTACH;FMTTYPE=image/jpeg:https://mercadomedievalobidos.pt/2022/wp-content/uploads/2025/06/malatitsch_saltimbancos.jpg
END:VEVENT
END:VCALENDAR